BEGIN:VCALENDAR
VERSION:2.0
PRODID:Events Booking
BEGIN:VEVENT
UID:69ed5929de559
SUMMARY:Jingle All the Way To Financial Freedom
DESCRIPTION:This essential training programme is not merely a session\; it 
 is a transformative investment in the future of your workforce. By enhanci
 ng their financial literacy and management skills\, you are not just gifti
 ng your employees with knowledge\, you are empowering them to take charge 
 of their financial destinys plans and priorities.
 This training initiati
 ve aligns with our commitment to fostering a thriving workforce in Trinida
 d and Tobago\, creating a culture of financial wellness that ultimately be
 nefit the entire organsation. As Warren Buffett famously said\, \"Do not s
 ave what is left after spending\; instead\, spend what is left after savin
 g.\" This philosophy cultivates proactive financial planning and prioritis
 es savings\, laying a solid foundation for long-term financial health.
 T
 ogether\, let us show your employees the path to financial empowerment!
DTSTART:20241205T130000Z
DTEND:20241205T160000Z
DTSTAMP:20241106T192047Z
ORGANIZER;CN=ESC Training:MAILTO:communications@ecatt.org
END:VEVENT
END:VCALENDAR