BEGIN:VCALENDAR
VERSION:2.0
PRODID:Events Booking
BEGIN:VEVENT
UID:69e8e46ce1a4c
SUMMARY:Driving Productivity Through Attendance: Leadership\, Systems\, and
  Culture Transformation
DESCRIPTION:Consistent attendance is the gasoline that keeps production\, e
 fficiency\, and morale high. Your workforce is the motor of your organisat
 ion's success. However\, tardiness and absenteeism continue to be common i
 ssues in both unionised and non-unionised organisations. If left unchecked
 \, these issues can negatively impact profitability\, performance\, and we
 aken culture.
 This programme gives managers\, supervisors\, team leaders
 \, and HR professionals the skills they need to strategically handle absen
 ces in all its forms.
 Free Offer Inside!
DTSTART:20260129T123000Z
DTEND:20260129T163000Z
DTSTAMP:20251212T200247Z
ORGANIZER;CN=ESC Training:MAILTO:communications@ecatt.org
END:VEVENT
END:VCALENDAR